BEGIN:VCALENDAR
VERSION:2.0
PRODID:-//Commune de Mertzig - ECPv4.9.4//NONSGML v1.0//EN
CALSCALE:GREGORIAN
METHOD:PUBLISH
X-WR-CALNAME:Commune de Mertzig
X-ORIGINAL-URL:https://www.mertzig.lu
X-WR-CALDESC:Évènements pour Commune de Mertzig
BEGIN:VTIMEZONE
TZID:"Europe/Paris"
BEGIN:DAYLIGHT
TZOFFSETFROM:+0100
TZOFFSETTO:+0200
TZNAME:CEST
DTSTART:20190331T010000
END:DAYLIGHT
BEGIN:STANDARD
TZOFFSETFROM:+0200
TZOFFSETTO:+0100
TZNAME:CET
DTSTART:20191027T010000
END:STANDARD
END:VTIMEZONE
BEGIN:VEVENT
DTSTART;TZID="Europe/Paris":20190924T190000
DTEND;TZID="Europe/Paris":20190924T210000
DTSTAMP:20200126T195555
CREATED:20190901T143756Z
LAST-MODIFIED:20190901T144026Z
UID:17282-1569351600-1569358800@www.mertzig.lu
SUMMARY:Soirée d'informations "Séchere Schoulwee"
DESCRIPTION:Avec l’introduction des zones 30 km/h et la réduction sensible des vitesses de circulation\, les piétons doivent avoir en principe la possibilité de traverser la rue sans détour par un passage pour piétons existant. \nAinsi\, la Commission de Circulation de l’Etat demande une réduction maximale du nombre de passages pour piétons dans les zones 30 km/h. \n \nEn vue de garantir une sécurité maximale des élèves au chemin vers l’école\, un concept de déplacement vers l’école a été élaboré en collaboration avec la commission scolaire et les responsables de la commune de Mertzig. Selon ce concept\, les chemins domicile-école ont été réorganisés dans la localité de Mertzig et les passages / gués pour piétons concernés ont été signalés comme tels. \nSéchere Schoulwee – Logo\nLe nouveau logo « Markollef » est marqué sur le trottoir à la hauteur des passages / gués pour piétons au chemin vers l’école. \nDe plus ces chemins définis vers l’école sont accentués et sécurisés par des marquages au sol et des bornes. \nLes chemins principaux vers l’école ont été définis sur base de l’enquête « De séchere Schoulwee » auprès des élèves et des parents. \nSoirée d’informations\nEn date du mardi\, 24 septembre 2019 à 19h00 aura lieu au Centre “Turelbaach” une soirée d’informations au sujet du “Séchere Schoulwee”. \nFlyer  / Invitation\n2019_00_Sechere_Schoulwee\n
URL:https://www.mertzig.lu/agenda/soiree-dinformations-sechere-schoulwee/
LOCATION:Centre Turelbaach\, 22 Rue Principale\, Mertzig\, 9168\, Luxembourg
CATEGORIES:Évènements publics
ATTACH;FMTTYPE=image/jpeg:https://www.mertzig.lu/wp-content/uploads/2019/09/20190924_Sechere_Schoulwee-1.jpg
END:VEVENT
END:VCALENDAR