BEGIN:VCALENDAR
VERSION:2.0
PRODID:-//Commune de Mertzig - ECPv4.9.4//NONSGML v1.0//EN
CALSCALE:GREGORIAN
METHOD:PUBLISH
X-WR-CALNAME:Commune de Mertzig
X-ORIGINAL-URL:https://www.mertzig.lu
X-WR-CALDESC:Évènements pour Commune de Mertzig
BEGIN:VTIMEZONE
TZID:"Europe/Paris"
BEGIN:DAYLIGHT
TZOFFSETFROM:+0100
TZOFFSETTO:+0200
TZNAME:CEST
DTSTART:20190331T010000
END:DAYLIGHT
BEGIN:STANDARD
TZOFFSETFROM:+0200
TZOFFSETTO:+0100
TZNAME:CET
DTSTART:20191027T010000
END:STANDARD
END:VTIMEZONE
BEGIN:VEVENT
DTSTART;VALUE=DATE:20191005
DTEND;VALUE=DATE:20191006
DTSTAMP:20200126T195713
CREATED:20190329T130958Z
LAST-MODIFIED:20190329T131006Z
UID:16088-1570233600-1570319999@www.mertzig.lu
SUMMARY:Fête portugaise
DESCRIPTION:
URL:https://www.mertzig.lu/agenda/fete-portugaise/
LOCATION:Centre Turelbaach\, 22 Rue Principale\, Mertzig\, 9168\, Luxembourg
CATEGORIES:Évènements publics
END:VEVENT
END:VCALENDAR