BEGIN:VCALENDAR
VERSION:2.0
PRODID:-//Commune de Mertzig - ECPv4.9.4//NONSGML v1.0//EN
CALSCALE:GREGORIAN
METHOD:PUBLISH
X-WR-CALNAME:Commune de Mertzig
X-ORIGINAL-URL:https://www.mertzig.lu
X-WR-CALDESC:Évènements pour Commune de Mertzig
BEGIN:VTIMEZONE
TZID:"Europe/Paris"
BEGIN:DAYLIGHT
TZOFFSETFROM:+0100
TZOFFSETTO:+0200
TZNAME:CEST
DTSTART:20190331T010000
END:DAYLIGHT
BEGIN:STANDARD
TZOFFSETFROM:+0200
TZOFFSETTO:+0100
TZNAME:CET
DTSTART:20191027T010000
END:STANDARD
END:VTIMEZONE
BEGIN:VEVENT
DTSTART;VALUE=DATE:20190427
DTEND;VALUE=DATE:20190428
DTSTAMP:20200126T195045
CREATED:20190313T160525Z
LAST-MODIFIED:20190329T124253Z
UID:15343-1556323200-1556409599@www.mertzig.lu
SUMMARY:Galaconcert - Good Friends
DESCRIPTION:
URL:https://www.mertzig.lu/agenda/fanfare-mertzig-gala-concert/
LOCATION:Centre Turelbaach\, 22 Rue Principale\, Mertzig\, 9168\, Luxembourg
CATEGORIES:Évènements publics
ATTACH;FMTTYPE=application/pdf:https://www.mertzig.lu/wp-content/uploads/2019/03/Flyer-galaconcert-2019-1.pdf
END:VEVENT
END:VCALENDAR