BEGIN:VCALENDAR
VERSION:2.0
PRODID:-//Commune de Mertzig - ECPv4.9.4//NONSGML v1.0//EN
CALSCALE:GREGORIAN
METHOD:PUBLISH
X-WR-CALNAME:Commune de Mertzig
X-ORIGINAL-URL:https://www.mertzig.lu
X-WR-CALDESC:Évènements pour Commune de Mertzig
BEGIN:VTIMEZONE
TZID:"Europe/Paris"
BEGIN:DAYLIGHT
TZOFFSETFROM:+0100
TZOFFSETTO:+0200
TZNAME:CEST
DTSTART:20190331T010000
END:DAYLIGHT
BEGIN:STANDARD
TZOFFSETFROM:+0200
TZOFFSETTO:+0100
TZNAME:CET
DTSTART:20191027T010000
END:STANDARD
END:VTIMEZONE
BEGIN:VEVENT
DTSTART;TZID="Europe/Paris":20190913T213000
DTEND;TZID="Europe/Paris":20190913T233000
DTSTAMP:20200126T195510
CREATED:20190901T144715Z
LAST-MODIFIED:20190901T144837Z
UID:17285-1568410200-1568417400@www.mertzig.lu
SUMMARY:Ballermann Mash-Up 2019
DESCRIPTION:
URL:https://www.mertzig.lu/agenda/ballermann-mash-up-2019/
LOCATION:Centre Turelbaach\, 22 Rue Principale\, Mertzig\, 9168\, Luxembourg
CATEGORIES:Évènements publics
END:VEVENT
END:VCALENDAR