BEGIN:VCALENDAR
VERSION:2.0
PRODID:-//Commune de Mertzig - ECPv4.9.4//NONSGML v1.0//EN
CALSCALE:GREGORIAN
METHOD:PUBLISH
X-WR-CALNAME:Commune de Mertzig
X-ORIGINAL-URL:https://www.mertzig.lu
X-WR-CALDESC:Évènements pour Commune de Mertzig
BEGIN:VTIMEZONE
TZID:"Europe/Paris"
BEGIN:DAYLIGHT
TZOFFSETFROM:+0100
TZOFFSETTO:+0200
TZNAME:CEST
DTSTART:20190331T010000
END:DAYLIGHT
BEGIN:STANDARD
TZOFFSETFROM:+0200
TZOFFSETTO:+0100
TZNAME:CET
DTSTART:20191027T010000
END:STANDARD
END:VTIMEZONE
BEGIN:VEVENT
DTSTART;VALUE=DATE:20191025
DTEND;VALUE=DATE:20191027
DTSTAMP:20200126T195831
CREATED:20190313T160526Z
LAST-MODIFIED:20191008T125924Z
UID:15382-1571961600-1572134399@www.mertzig.lu
SUMMARY:Fête portugaise
DESCRIPTION:Programme / Flyer\n20191025_FP_Flyer\n
URL:https://www.mertzig.lu/agenda/amigos-fete-portugaise-2/
LOCATION:Centre Turelbaach\, 22 Rue Principale\, Mertzig\, 9168\, Luxembourg
CATEGORIES:Évènements publics
ATTACH;FMTTYPE=image/jpeg:https://www.mertzig.lu/wp-content/uploads/2019/03/20191025_FP_Flyer.jpg
END:VEVENT
END:VCALENDAR