BEGIN:VCALENDAR
VERSION:2.0
PRODID:-//Commune de Mertzig - ECPv4.9.4//NONSGML v1.0//EN
CALSCALE:GREGORIAN
METHOD:PUBLISH
X-WR-CALNAME:Commune de Mertzig
X-ORIGINAL-URL:https://www.mertzig.lu
X-WR-CALDESC:Évènements pour Commune de Mertzig
BEGIN:VTIMEZONE
TZID:"Europe/Paris"
BEGIN:DAYLIGHT
TZOFFSETFROM:+0100
TZOFFSETTO:+0200
TZNAME:CEST
DTSTART:20200329T010000
END:DAYLIGHT
BEGIN:STANDARD
TZOFFSETFROM:+0200
TZOFFSETTO:+0100
TZNAME:CET
DTSTART:20201025T010000
END:STANDARD
END:VTIMEZONE
BEGIN:VEVENT
DTSTART;VALUE=DATE:20200404
DTEND;VALUE=DATE:20200420
DTSTAMP:20200421T090155
CREATED:20200116T061854Z
LAST-MODIFIED:20200116T061854Z
UID:17751-1585958400-1587340799@www.mertzig.lu
SUMMARY:Vacances de Pâques
DESCRIPTION:
URL:https://www.mertzig.lu/agenda/vacances-de-paques/
LOCATION:Mertzig\, Luxembourg
CATEGORIES:Évènements publics
END:VEVENT
BEGIN:VEVENT
DTSTART;VALUE=DATE:20200419
DTEND;VALUE=DATE:20200420
DTSTAMP:20200421T090155
CREATED:20200215T071615Z
LAST-MODIFIED:20200409T085608Z
UID:17865-1587254400-1587340799@www.mertzig.lu
SUMMARY:ANNULÉ - 1ère Communion solennelle
DESCRIPTION:
URL:https://www.mertzig.lu/agenda/1ere-communion/
LOCATION:Mertzig\, Luxembourg
CATEGORIES:Évènements publics
END:VEVENT
BEGIN:VEVENT
DTSTART;TZID="Europe/Paris":20200419T140000
DTEND;TZID="Europe/Paris":20200419T180000
DTSTAMP:20200421T090155
CREATED:20200116T061542Z
LAST-MODIFIED:20200409T085554Z
UID:17743-1587304800-1587319200@www.mertzig.lu
SUMMARY:ANNULÉ - RepairCafé
DESCRIPTION:Que faire d’un grille-pain qui ne marche plus ? D’une bicyclette dont la roue frotte ? Ou d’un pull mité ? Les jeter ? Pas question !\nLe « Foyer » derrière le Centre Turelbaach à Mertzig se transforme en atelier de réparationaux jours suivants: \n\nDimanche\, 01er mars 2020\nDimanche\, 19 avril 2020\nDimanche\, 14 juin 2020\n\nDe 14.00 à 18.00 heures\, plusieurs réparateurs bénévoles sont là pour vous aider à réparer tout ce que vous avez à réparer. Outils et matériel sont également disponibles sur place. On apporte au Repair Café les choses en mauvais état : grille-pain\, lampes\, sèche-cheveux\, vêtements\, vélos\, jouets\, vaisselle… tout ce qui ne marche plus est bienvenu\, et aura peut-être la chance d’une seconde vie. Les experts du Repair Café ont presque toujours la main heureuse. \nEn préconisant la réparation\, le Repair Café Mertzig veut contribuer à réduire les montagnes de déchets. C’est urgent pense Marcel Barros\, initiateur du projet : « Nous autres\, Européens\, jetons énormément\, entre autres ce qui est à peine abîmé et qui serait parfaitement réutilisable après une simple réparation. Mais pour nombre d’entre-nous\, réparer n’est plus chose normale. Au Repair Café\, nous voulons changer les choses. » \nLe Repair Café veut aussi être un lieu de rencontre où les habitants du quartier apprennent à se connaître autrement\, et où ils découvrent que connaissances pratiques et expertise ne manquent pas près de chez eux. \nLe concept du Repair Café a vu le jour à Amsterdam\, en 2009\, et est l’initiative de Martine Postma\, à l’époque journaliste/publiciste. En 2010\, elle a créé la Fondation Repair Café (voir www.repaircafe.org). Cette fondation soutient des groupes locaux dans le monde entier qui veulent démarrer leur propre Repair Café. La fondation supporte aussi le Repair Café à Mertzig. \n
URL:https://www.mertzig.lu/agenda/repaircafe-2/
LOCATION:Foyer / Centre Turelbaach\, 22 Rue Principale\, Mertzig\, L-9168\, Luxembourg
CATEGORIES:Évènements publics
ATTACH;FMTTYPE=image/jpeg:https://www.mertzig.lu/wp-content/uploads/2019/04/RC_Maerzeg.jpg
END:VEVENT
END:VCALENDAR