BEGIN:VCALENDAR
VERSION:2.0
PRODID:-//Commune de Mertzig - ECPv4.9.4//NONSGML v1.0//EN
CALSCALE:GREGORIAN
METHOD:PUBLISH
X-WR-CALNAME:Commune de Mertzig
X-ORIGINAL-URL:https://www.mertzig.lu
X-WR-CALDESC:Évènements pour Commune de Mertzig
BEGIN:VTIMEZONE
TZID:"Europe/Paris"
BEGIN:DAYLIGHT
TZOFFSETFROM:+0100
TZOFFSETTO:+0200
TZNAME:CEST
DTSTART:20200329T010000
END:DAYLIGHT
BEGIN:STANDARD
TZOFFSETFROM:+0200
TZOFFSETTO:+0100
TZNAME:CET
DTSTART:20201025T010000
END:STANDARD
END:VTIMEZONE
BEGIN:VEVENT
DTSTART;VALUE=DATE:20200404
DTEND;VALUE=DATE:20200420
DTSTAMP:20200126T203123
CREATED:20200116T061854Z
LAST-MODIFIED:20200116T061854Z
UID:17751-1585958400-1587340799@www.mertzig.lu
SUMMARY:Vacances de Pâques
DESCRIPTION:
URL:https://www.mertzig.lu/agenda/vacances-de-paques/
LOCATION:Mertzig\, Luxembourg
CATEGORIES:Évènements publics
END:VEVENT
END:VCALENDAR