BEGIN:VCALENDAR
VERSION:2.0
PRODID:-//Commune de Mertzig - ECPv4.9.4//NONSGML v1.0//EN
CALSCALE:GREGORIAN
METHOD:PUBLISH
X-WR-CALNAME:Commune de Mertzig
X-ORIGINAL-URL:https://www.mertzig.lu
X-WR-CALDESC:Évènements pour Commune de Mertzig
BEGIN:VTIMEZONE
TZID:"Europe/Paris"
BEGIN:DAYLIGHT
TZOFFSETFROM:+0100
TZOFFSETTO:+0200
TZNAME:CEST
DTSTART:20190331T010000
END:DAYLIGHT
BEGIN:STANDARD
TZOFFSETFROM:+0200
TZOFFSETTO:+0100
TZNAME:CET
DTSTART:20191027T010000
END:STANDARD
END:VTIMEZONE
BEGIN:VEVENT
DTSTART;TZID="Europe/Paris":20191009T180000
DTEND;TZID="Europe/Paris":20191009T193000
DTSTAMP:20200126T202226
CREATED:20191006T201531Z
LAST-MODIFIED:20191009T131141Z
UID:17443-1570644000-1570649400@www.mertzig.lu
SUMMARY:Journée commémorative
DESCRIPTION:Le Conseil communal\nde la Commune de Mertzig\,\net\nla Paroisse « Saints Pierre et Paul – Ettelbruck »\ninvitent les autorités\, les sociétés locales et tous les habitants de la Commune à célébrer la\nJournée de commémoration nationale\nen hommage aux victimes\nde la Seconde Guerre mondiale\nqui aura lieu le \nMercredi\, 9 octobre 2019 à 18h30\n18h00 – Rendez-vous devant le Centre « Turelbaach »\nCortège vers l’Église paroissiale avec les associations locales\n18h15 – Allocution de M. le Bourgmestre\,\nsuivie de la Cérémonie officielle au Monument aux Morts\n18h30 – Messe à l’Église paroissiale de Mertzig\, \nLe Conseil communal \n
URL:https://www.mertzig.lu/agenda/journee-commemorative/
LOCATION:Mertzig\, Luxembourg
CATEGORIES:Évènements publics
END:VEVENT
END:VCALENDAR