BEGIN:VCALENDAR
VERSION:2.0
PRODID:-//Commune de Mertzig - ECPv4.9.4//NONSGML v1.0//EN
CALSCALE:GREGORIAN
METHOD:PUBLISH
X-WR-CALNAME:Commune de Mertzig
X-ORIGINAL-URL:https://www.mertzig.lu
X-WR-CALDESC:Évènements pour Commune de Mertzig
BEGIN:VTIMEZONE
TZID:"Europe/Paris"
BEGIN:DAYLIGHT
TZOFFSETFROM:+0100
TZOFFSETTO:+0200
TZNAME:CEST
DTSTART:20190331T010000
END:DAYLIGHT
BEGIN:STANDARD
TZOFFSETFROM:+0200
TZOFFSETTO:+0100
TZNAME:CET
DTSTART:20191027T010000
END:STANDARD
END:VTIMEZONE
BEGIN:VEVENT
DTSTART;TZID="Europe/Paris":20191003T193000
DTEND;TZID="Europe/Paris":20191003T213000
DTSTAMP:20200126T202129
CREATED:20190928T064622Z
LAST-MODIFIED:20190928T064622Z
UID:17433-1570131000-1570138200@www.mertzig.lu
SUMMARY:Réunion du Conseil communal
DESCRIPTION:Le Conseil communal se réunit en date du jeudi\, 03 octobre 2019 à 19h30 pour délibérer sur les points suivants: \n\nPlan de gestion – Exercice 2020\nZones hydrologiques – Avis\nOrganisation scolaire 2019/2020 – Plans de surveillance\nApprobation de plusieurs compromis\nMaison communale – Changement de lieu\nFixation de l’impôt commercial et foncier pour 2020\nCommunications\n\nSéance secrète\n\nNomination provisoire du receveur communal\n\nDocument\n20191003_00_Convocation\n
URL:https://www.mertzig.lu/agenda/reunion-du-conseil-communal-3/
LOCATION:Mertzig\, Luxembourg
CATEGORIES:Évènements publics
ATTACH;FMTTYPE=image/jpeg:https://www.mertzig.lu/wp-content/uploads/2019/03/Reunion_02.jpg
END:VEVENT
END:VCALENDAR